BEGIN:VCALENDAR
VERSION:2.0
PRODID:-//wp-events-plugin.com//7.2.3.1//EN
TZID:Europe/Berlin
X-WR-TIMEZONE:Europe/Berlin
BEGIN:VEVENT
UID:822@kachtenhausen.org
DTSTART;TZID=Europe/Berlin:20240208T100000
DTEND;TZID=Europe/Berlin:20240208T180000
DTSTAMP:20231206T094244Z
URL:https://kachtenhausen.org/veranstaltung/blutspende-drk
SUMMARY:Blutspende DRK
DESCRIPTION:
CATEGORIES:DRK-Ortsverein Kachtenhausen,Gastgruppen
LOCATION:Gemeindezentrum Kachtenhausen\, Ehlenbrucher Str. 10\, Lage-Kachte
 nhausen\, 32791\, Deutschland
X-APPLE-STRUCTURED-LOCATION;VALUE=URI;X-ADDRESS=Ehlenbrucher Str. 10\, Lage
 -Kachtenhausen\, 32791\, Deutschland;X-APPLE-RADIUS=100;X-TITLE=Gemeindeze
 ntrum Kachtenhausen:geo:0,0
END:VEVENT
BEGIN:VTIMEZONE
TZID:Europe/Berlin
X-LIC-LOCATION:Europe/Berlin
BEGIN:STANDARD
DTSTART:20231029T020000
TZOFFSETFROM:+0200
TZOFFSETTO:+0100
TZNAME:CET
END:STANDARD
END:VTIMEZONE
END:VCALENDAR