BEGIN:VCALENDAR
VERSION:2.0
PRODID:-//wp-events-plugin.com//7.2.3.1//EN
TZID:Europe/Berlin
X-WR-TIMEZONE:Europe/Berlin
BEGIN:VEVENT
UID:1887@kachtenhausen.org
DTSTART;TZID=Europe/Berlin:20260514T110000
DTEND;TZID=Europe/Berlin:20260514T120000
DTSTAMP:20251211T085041Z
URL:https://kachtenhausen.org/veranstaltung/himmelfahrtsgottesdienst-auf-d
 er-muenterburg-2
SUMMARY:Himmelfahrtsgottesdienst auf der Münterburg
DESCRIPTION:mit anschließender Möglichkeit zum Mittagessen\n\nBei schlech
 tem Wetter in der Johanneskirche in Kachtenhausen
ATTACH;FMTTYPE=image/jpeg:https://kachtenhausen.org/wp-content/uploads/202
 2/02/Titelbild_Innenraum.jpg
CATEGORIES:Gottesdienste
LOCATION:Münterburg in Wellentrup\, Zur Münterburg\, Lage Lippe\, 32791\,
  Deutschland
X-APPLE-STRUCTURED-LOCATION;VALUE=URI;X-ADDRESS=Zur Münterburg\, Lage Lipp
 e\, 32791\, Deutschland;X-APPLE-RADIUS=100;X-TITLE=Münterburg in Wellentr
 up:geo:0,0
END:VEVENT
BEGIN:VTIMEZONE
TZID:Europe/Berlin
X-LIC-LOCATION:Europe/Berlin
BEGIN:DAYLIGHT
DTSTART:20260329T030000
TZOFFSETFROM:+0100
TZOFFSETTO:+0200
TZNAME:CEST
END:DAYLIGHT
END:VTIMEZONE
END:VCALENDAR