BEGIN:VCALENDAR
VERSION:2.0
PRODID:-//wp-events-plugin.com//7.2.3.1//EN
TZID:Europe/Berlin
X-WR-TIMEZONE:Europe/Berlin
BEGIN:VEVENT
UID:1927@kachtenhausen.org
DTSTART;TZID=Europe/Berlin:20260627T103000
DTEND;TZID=Europe/Berlin:20260627T123000
DTSTAMP:20260210T122412Z
URL:https://kachtenhausen.org/veranstaltung/kinderkirche_2026-06-27
SUMMARY:Kinderkirche mit Kircheneule Kiki
DESCRIPTION:Lustige Abenteuer mit Kiki\, der Kircheneule und ihren Freunden
 . Spiele\, Geschichten\, Basteln\, Lieder – für Kinder von 5 bis 10 Jah
 ren. Der andere Kindergottesdienst am Samstagvormittag.
CATEGORIES:Gruppen und Kreise,Kinderkirche
LOCATION:Johanneskirche Kachtenhausen\, Ehlenbrucher Str. 10\, Lage-Kachten
 hausen\, 32791\, Deutschland
X-APPLE-STRUCTURED-LOCATION;VALUE=URI;X-ADDRESS=Ehlenbrucher Str. 10\, Lage
 -Kachtenhausen\, 32791\, Deutschland;X-APPLE-RADIUS=100;X-TITLE=Johanneski
 rche Kachtenhausen:geo:0,0
END:VEVENT
BEGIN:VTIMEZONE
TZID:Europe/Berlin
X-LIC-LOCATION:Europe/Berlin
BEGIN:DAYLIGHT
DTSTART:20260329T030000
TZOFFSETFROM:+0100
TZOFFSETTO:+0200
TZNAME:CEST
END:DAYLIGHT
END:VTIMEZONE
END:VCALENDAR