BEGIN:VCALENDAR
VERSION:2.0
PRODID:-//wp-events-plugin.com//7.2.3.1//EN
TZID:Europe/Berlin
X-WR-TIMEZONE:Europe/Berlin
BEGIN:VEVENT
UID:1228@kachtenhausen.org
DTSTART;TZID=Europe/Berlin:20240401T100000
DTEND;TZID=Europe/Berlin:20240401T130000
DTSTAMP:20240123T155725Z
URL:https://kachtenhausen.org/veranstaltung/ostergottesdienst-mit-fruehstu
 eck-in-stapelage
SUMMARY:Ostergottesdienst mit Frühstück in Stapelage
DESCRIPTION:Ostergottesdienst mit anschließendem Frühstück im Gemeindeze
 ntrum
CATEGORIES:Gottesdienste,Nachbarschaftsgottesdienst
LOCATION:Kirche Stapelage\, Stapelager Str. 74\, Lage-Stapelage\, 32791\, D
 eutschland
X-APPLE-STRUCTURED-LOCATION;VALUE=URI;X-ADDRESS=Stapelager Str. 74\, Lage-S
 tapelage\, 32791\, Deutschland;X-APPLE-RADIUS=100;X-TITLE=Kirche Stapelage
 :geo:0,0
END:VEVENT
BEGIN:VTIMEZONE
TZID:Europe/Berlin
X-LIC-LOCATION:Europe/Berlin
BEGIN:DAYLIGHT
DTSTART:20240331T030000
TZOFFSETFROM:+0100
TZOFFSETTO:+0200
TZNAME:CEST
END:DAYLIGHT
END:VTIMEZONE
END:VCALENDAR