BEGIN:VCALENDAR
VERSION:2.0
PRODID:-//wp-events-plugin.com//7.2.3.1//EN
TZID:Europe/Berlin
X-WR-TIMEZONE:Europe/Berlin
BEGIN:VEVENT
UID:707@kachtenhausen.org
DTSTART;TZID=Europe/Berlin:20230330T193000
DTEND;TZID=Europe/Berlin:20230330T213000
DTSTAMP:20230302T213354Z
URL:https://kachtenhausen.org/veranstaltung/tagung-des-bauausschuss
SUMMARY:Tagung des Bauausschuss
DESCRIPTION:
CATEGORIES:Bauausschuss,Tagung von Ausschüssen
LOCATION:https://zoom.us/j/6483633323
END:VEVENT
BEGIN:VTIMEZONE
TZID:Europe/Berlin
X-LIC-LOCATION:Europe/Berlin
BEGIN:DAYLIGHT
DTSTART:20230326T030000
TZOFFSETFROM:+0100
TZOFFSETTO:+0200
TZNAME:CEST
END:DAYLIGHT
END:VTIMEZONE
END:VCALENDAR